BEGIN:VCALENDAR
VERSION:2.0
PRODID:-//Aoibheann&#039;s Pink Tie - ECPv6.15.20//NONSGML v1.0//EN
CALSCALE:GREGORIAN
METHOD:PUBLISH
X-WR-CALNAME:Aoibheann&#039;s Pink Tie
X-ORIGINAL-URL:https://aoibheannspinktie.ie
X-WR-CALDESC:Events for Aoibheann&#039;s Pink Tie
REFRESH-INTERVAL;VALUE=DURATION:PT1H
X-Robots-Tag:noindex
X-PUBLISHED-TTL:PT1H
BEGIN:VTIMEZONE
TZID:Europe/Dublin
BEGIN:DAYLIGHT
TZOFFSETFROM:+0000
TZOFFSETTO:+0100
TZNAME:IST
DTSTART:20240331T010000
END:DAYLIGHT
BEGIN:STANDARD
TZOFFSETFROM:+0100
TZOFFSETTO:+0000
TZNAME:GMT
DTSTART:20241027T010000
END:STANDARD
BEGIN:DAYLIGHT
TZOFFSETFROM:+0000
TZOFFSETTO:+0100
TZNAME:IST
DTSTART:20250330T010000
END:DAYLIGHT
BEGIN:STANDARD
TZOFFSETFROM:+0100
TZOFFSETTO:+0000
TZNAME:GMT
DTSTART:20251026T010000
END:STANDARD
BEGIN:DAYLIGHT
TZOFFSETFROM:+0000
TZOFFSETTO:+0100
TZNAME:IST
DTSTART:20260329T010000
END:DAYLIGHT
BEGIN:STANDARD
TZOFFSETFROM:+0100
TZOFFSETTO:+0000
TZNAME:GMT
DTSTART:20261025T010000
END:STANDARD
END:VTIMEZONE
BEGIN:VEVENT
DTSTART;VALUE=DATE:20250607
DTEND;VALUE=DATE:20250608
DTSTAMP:20260423T104312
CREATED:20250326T153844Z
LAST-MODIFIED:20250326T153844Z
UID:1271-1749254400-1749340799@aoibheannspinktie.ie
SUMMARY:sTRIP AND DPI
DESCRIPTION:WER
URL:https://aoibheannspinktie.ie/event/strip-and-dpi/
LOCATION:WICKLOW\, Ireland
ATTACH;FMTTYPE=image/jpeg:https://aoibheannspinktie.ie/wp-content/uploads/2025/03/Guinness-19-e1742999629422.jpg
END:VEVENT
BEGIN:VEVENT
DTSTART;TZID=Europe/Dublin:20250601T080000
DTEND;TZID=Europe/Dublin:20250601T170000
DTSTAMP:20260423T104312
CREATED:20250326T153824Z
LAST-MODIFIED:20250326T153824Z
UID:1275-1748764800-1748797200@aoibheannspinktie.ie
SUMMARY:VHI Women's Mini Marathon
DESCRIPTION:adfasdf \nasdfas \ndfasd \nfasdf \nasd \nfasd \nf
URL:https://aoibheannspinktie.ie/event/vhi-womens-mini-marathon/
LOCATION:Dublin\, Ireland
ATTACH;FMTTYPE=image/jpeg:https://aoibheannspinktie.ie/wp-content/uploads/2025/03/VHI.jpg
END:VEVENT
END:VCALENDAR